BEGIN:VCALENDAR
VERSION:2.0
PRODID:-//hundesander - ECPv6.15.20//NONSGML v1.0//EN
CALSCALE:GREGORIAN
METHOD:PUBLISH
X-WR-CALNAME:hundesander
X-ORIGINAL-URL:https://www.hundesander.de
X-WR-CALDESC:Veranstaltungen für hundesander
REFRESH-INTERVAL;VALUE=DURATION:PT1H
X-Robots-Tag:noindex
X-PUBLISHED-TTL:PT1H
BEGIN:VTIMEZONE
TZID:Europe/Berlin
BEGIN:DAYLIGHT
TZOFFSETFROM:+0100
TZOFFSETTO:+0200
TZNAME:CEST
DTSTART:20250330T010000
END:DAYLIGHT
BEGIN:STANDARD
TZOFFSETFROM:+0200
TZOFFSETTO:+0100
TZNAME:CET
DTSTART:20251026T010000
END:STANDARD
BEGIN:DAYLIGHT
TZOFFSETFROM:+0100
TZOFFSETTO:+0200
TZNAME:CEST
DTSTART:20260329T010000
END:DAYLIGHT
BEGIN:STANDARD
TZOFFSETFROM:+0200
TZOFFSETTO:+0100
TZNAME:CET
DTSTART:20261025T010000
END:STANDARD
BEGIN:DAYLIGHT
TZOFFSETFROM:+0100
TZOFFSETTO:+0200
TZNAME:CEST
DTSTART:20270328T010000
END:DAYLIGHT
BEGIN:STANDARD
TZOFFSETFROM:+0200
TZOFFSETTO:+0100
TZNAME:CET
DTSTART:20271031T010000
END:STANDARD
END:VTIMEZONE
BEGIN:VEVENT
DTSTART;TZID=Europe/Berlin:20260305T150000
DTEND;TZID=Europe/Berlin:20260305T170000
DTSTAMP:20260422T133437
CREATED:20260131T124324Z
LAST-MODIFIED:20260131T124324Z
UID:10135-1772722800-1772730000@www.hundesander.de
SUMMARY:Mantrail
DESCRIPTION:Am 26. November in Wittingen				\n				\n				\n				\n									MONA – das ist der schwarze HUND – und Besitzerin Simone trailen heute das 5.Mal. Mona verfolgt ganz konsequent den Trail\, lässt sich nicht aus der Ruhe bringen – auch nicht durch einen entgegenkommenden Hund – und findet dann sehr zielstrebig den Runner. Wer genau „hin spürt“ merkt\, dass Mona trotz der Arbeit Kontakt zu Simone hält. Umgebung mittelschwer: Asphalt\, Autos\, Menschen\, viele Geräusche. Erstaunlich\, was manche Hunde schon nach kurzem hinbekommen. GROßARTIG 								\n				\n					\n		\n					\n		\n				\n						\n					\n			\n						\n				\n							\n					\n				\n						\n				\n					\n		\n					\n		\n				\n						\n					\n			\n						\n				\n					Und ein paar Bilder wurden auch geknipst ...
URL:https://www.hundesander.de/event/mantrail-105/
LOCATION:Verschiedene Orte\, Niedersachsen\, Deutschland
CATEGORIES:Mantrail,Training
ATTACH;FMTTYPE=image/jpeg:https://www.hundesander.de/wp-content/uploads/2022/07/daniel-sofinet-ZZLDGZjcx3s-unsplash.jpg
ORGANIZER;CN="hundesander":MAILTO:Christiane@hundesander.de
END:VEVENT
BEGIN:VEVENT
DTSTART;TZID=Europe/Berlin:20260306T150000
DTEND;TZID=Europe/Berlin:20260306T170000
DTSTAMP:20260422T133437
CREATED:20260131T124324Z
LAST-MODIFIED:20260131T124324Z
UID:10151-1772809200-1772816400@www.hundesander.de
SUMMARY:Mantrail
DESCRIPTION:Am 26. November in Wittingen				\n				\n				\n				\n									MONA – das ist der schwarze HUND – und Besitzerin Simone trailen heute das 5.Mal. Mona verfolgt ganz konsequent den Trail\, lässt sich nicht aus der Ruhe bringen – auch nicht durch einen entgegenkommenden Hund – und findet dann sehr zielstrebig den Runner. Wer genau „hin spürt“ merkt\, dass Mona trotz der Arbeit Kontakt zu Simone hält. Umgebung mittelschwer: Asphalt\, Autos\, Menschen\, viele Geräusche. Erstaunlich\, was manche Hunde schon nach kurzem hinbekommen. GROßARTIG 								\n				\n					\n		\n					\n		\n				\n						\n					\n			\n						\n				\n							\n					\n				\n						\n				\n					\n		\n					\n		\n				\n						\n					\n			\n						\n				\n					Und ein paar Bilder wurden auch geknipst ...
URL:https://www.hundesander.de/event/mantrail-104/
LOCATION:Verschiedene Orte\, Niedersachsen\, Deutschland
CATEGORIES:Mantrail,Training
ATTACH;FMTTYPE=image/jpeg:https://www.hundesander.de/wp-content/uploads/2022/07/daniel-sofinet-ZZLDGZjcx3s-unsplash.jpg
ORGANIZER;CN="hundesander":MAILTO:Christiane@hundesander.de
END:VEVENT
BEGIN:VEVENT
DTSTART;TZID=Europe/Berlin:20260307T150000
DTEND;TZID=Europe/Berlin:20260307T170000
DTSTAMP:20260422T133437
CREATED:20260131T124324Z
LAST-MODIFIED:20260131T124324Z
UID:10143-1772895600-1772902800@www.hundesander.de
SUMMARY:Mantrail
DESCRIPTION:Am 26. November in Wittingen				\n				\n				\n				\n									MONA – das ist der schwarze HUND – und Besitzerin Simone trailen heute das 5.Mal. Mona verfolgt ganz konsequent den Trail\, lässt sich nicht aus der Ruhe bringen – auch nicht durch einen entgegenkommenden Hund – und findet dann sehr zielstrebig den Runner. Wer genau „hin spürt“ merkt\, dass Mona trotz der Arbeit Kontakt zu Simone hält. Umgebung mittelschwer: Asphalt\, Autos\, Menschen\, viele Geräusche. Erstaunlich\, was manche Hunde schon nach kurzem hinbekommen. GROßARTIG 								\n				\n					\n		\n					\n		\n				\n						\n					\n			\n						\n				\n							\n					\n				\n						\n				\n					\n		\n					\n		\n				\n						\n					\n			\n						\n				\n					Und ein paar Bilder wurden auch geknipst ...
URL:https://www.hundesander.de/event/mantrail-103/
LOCATION:Verschiedene Orte\, Niedersachsen\, Deutschland
CATEGORIES:Mantrail,Training
ATTACH;FMTTYPE=image/jpeg:https://www.hundesander.de/wp-content/uploads/2022/07/daniel-sofinet-ZZLDGZjcx3s-unsplash.jpg
ORGANIZER;CN="hundesander":MAILTO:Christiane@hundesander.de
END:VEVENT
BEGIN:VEVENT
DTSTART;TZID=Europe/Berlin:20260312T150000
DTEND;TZID=Europe/Berlin:20260312T170000
DTSTAMP:20260422T133437
CREATED:20260131T124301Z
LAST-MODIFIED:20260131T124301Z
UID:10136-1773327600-1773334800@www.hundesander.de
SUMMARY:Mantrail
DESCRIPTION:Am 26. November in Wittingen				\n				\n				\n				\n									MONA – das ist der schwarze HUND – und Besitzerin Simone trailen heute das 5.Mal. Mona verfolgt ganz konsequent den Trail\, lässt sich nicht aus der Ruhe bringen – auch nicht durch einen entgegenkommenden Hund – und findet dann sehr zielstrebig den Runner. Wer genau „hin spürt“ merkt\, dass Mona trotz der Arbeit Kontakt zu Simone hält. Umgebung mittelschwer: Asphalt\, Autos\, Menschen\, viele Geräusche. Erstaunlich\, was manche Hunde schon nach kurzem hinbekommen. GROßARTIG 								\n				\n					\n		\n					\n		\n				\n						\n					\n			\n						\n				\n							\n					\n				\n						\n				\n					\n		\n					\n		\n				\n						\n					\n			\n						\n				\n					Und ein paar Bilder wurden auch geknipst ...
URL:https://www.hundesander.de/event/mantrail-102/
LOCATION:Verschiedene Orte\, Niedersachsen\, Deutschland
CATEGORIES:Mantrail,Training
ATTACH;FMTTYPE=image/jpeg:https://www.hundesander.de/wp-content/uploads/2022/07/daniel-sofinet-ZZLDGZjcx3s-unsplash.jpg
ORGANIZER;CN="hundesander":MAILTO:Christiane@hundesander.de
END:VEVENT
BEGIN:VEVENT
DTSTART;TZID=Europe/Berlin:20260313T150000
DTEND;TZID=Europe/Berlin:20260313T170000
DTSTAMP:20260422T133437
CREATED:20260131T124301Z
LAST-MODIFIED:20260131T124301Z
UID:10152-1773414000-1773421200@www.hundesander.de
SUMMARY:Mantrail
DESCRIPTION:Am 26. November in Wittingen				\n				\n				\n				\n									MONA – das ist der schwarze HUND – und Besitzerin Simone trailen heute das 5.Mal. Mona verfolgt ganz konsequent den Trail\, lässt sich nicht aus der Ruhe bringen – auch nicht durch einen entgegenkommenden Hund – und findet dann sehr zielstrebig den Runner. Wer genau „hin spürt“ merkt\, dass Mona trotz der Arbeit Kontakt zu Simone hält. Umgebung mittelschwer: Asphalt\, Autos\, Menschen\, viele Geräusche. Erstaunlich\, was manche Hunde schon nach kurzem hinbekommen. GROßARTIG 								\n				\n					\n		\n					\n		\n				\n						\n					\n			\n						\n				\n							\n					\n				\n						\n				\n					\n		\n					\n		\n				\n						\n					\n			\n						\n				\n					Und ein paar Bilder wurden auch geknipst ...
URL:https://www.hundesander.de/event/mantrail-101/
LOCATION:Verschiedene Orte\, Niedersachsen\, Deutschland
CATEGORIES:Mantrail,Training
ATTACH;FMTTYPE=image/jpeg:https://www.hundesander.de/wp-content/uploads/2022/07/daniel-sofinet-ZZLDGZjcx3s-unsplash.jpg
ORGANIZER;CN="hundesander":MAILTO:Christiane@hundesander.de
END:VEVENT
BEGIN:VEVENT
DTSTART;TZID=Europe/Berlin:20260314T150000
DTEND;TZID=Europe/Berlin:20260314T170000
DTSTAMP:20260422T133437
CREATED:20260131T124301Z
LAST-MODIFIED:20260131T124301Z
UID:10144-1773500400-1773507600@www.hundesander.de
SUMMARY:Mantrail
DESCRIPTION:Am 26. November in Wittingen				\n				\n				\n				\n									MONA – das ist der schwarze HUND – und Besitzerin Simone trailen heute das 5.Mal. Mona verfolgt ganz konsequent den Trail\, lässt sich nicht aus der Ruhe bringen – auch nicht durch einen entgegenkommenden Hund – und findet dann sehr zielstrebig den Runner. Wer genau „hin spürt“ merkt\, dass Mona trotz der Arbeit Kontakt zu Simone hält. Umgebung mittelschwer: Asphalt\, Autos\, Menschen\, viele Geräusche. Erstaunlich\, was manche Hunde schon nach kurzem hinbekommen. GROßARTIG 								\n				\n					\n		\n					\n		\n				\n						\n					\n			\n						\n				\n							\n					\n				\n						\n				\n					\n		\n					\n		\n				\n						\n					\n			\n						\n				\n					Und ein paar Bilder wurden auch geknipst ...
URL:https://www.hundesander.de/event/mantrail-100/
LOCATION:Verschiedene Orte\, Niedersachsen\, Deutschland
CATEGORIES:Mantrail,Training
ATTACH;FMTTYPE=image/jpeg:https://www.hundesander.de/wp-content/uploads/2022/07/daniel-sofinet-ZZLDGZjcx3s-unsplash.jpg
ORGANIZER;CN="hundesander":MAILTO:Christiane@hundesander.de
END:VEVENT
BEGIN:VEVENT
DTSTART;TZID=Europe/Berlin:20260319T150000
DTEND;TZID=Europe/Berlin:20260319T170000
DTSTAMP:20260422T133437
CREATED:20260328T084611Z
LAST-MODIFIED:20260328T084611Z
UID:10373-1773932400-1773939600@www.hundesander.de
SUMMARY:Mantrail
DESCRIPTION:Am 26. November in Wittingen				\n				\n				\n				\n									MONA – das ist der schwarze HUND – und Besitzerin Simone trailen heute das 5.Mal. Mona verfolgt ganz konsequent den Trail\, lässt sich nicht aus der Ruhe bringen – auch nicht durch einen entgegenkommenden Hund – und findet dann sehr zielstrebig den Runner. Wer genau „hin spürt“ merkt\, dass Mona trotz der Arbeit Kontakt zu Simone hält. Umgebung mittelschwer: Asphalt\, Autos\, Menschen\, viele Geräusche. Erstaunlich\, was manche Hunde schon nach kurzem hinbekommen. GROßARTIG 								\n				\n					\n		\n					\n		\n				\n						\n					\n			\n						\n				\n							\n					\n				\n						\n				\n					\n		\n					\n		\n				\n						\n					\n			\n						\n				\n					Und ein paar Bilder wurden auch geknipst ...
URL:https://www.hundesander.de/event/mantrail-128/
LOCATION:Verschiedene Orte\, Niedersachsen\, Deutschland
CATEGORIES:Mantrail,Training
ATTACH;FMTTYPE=image/jpeg:https://www.hundesander.de/wp-content/uploads/2022/07/daniel-sofinet-ZZLDGZjcx3s-unsplash.jpg
ORGANIZER;CN="hundesander":MAILTO:Christiane@hundesander.de
END:VEVENT
BEGIN:VEVENT
DTSTART;TZID=Europe/Berlin:20260320T150000
DTEND;TZID=Europe/Berlin:20260320T170000
DTSTAMP:20260422T133437
CREATED:20260328T084610Z
LAST-MODIFIED:20260328T084610Z
UID:10365-1774018800-1774026000@www.hundesander.de
SUMMARY:Mantrail
DESCRIPTION:Am 26. November in Wittingen				\n				\n				\n				\n									MONA – das ist der schwarze HUND – und Besitzerin Simone trailen heute das 5.Mal. Mona verfolgt ganz konsequent den Trail\, lässt sich nicht aus der Ruhe bringen – auch nicht durch einen entgegenkommenden Hund – und findet dann sehr zielstrebig den Runner. Wer genau „hin spürt“ merkt\, dass Mona trotz der Arbeit Kontakt zu Simone hält. Umgebung mittelschwer: Asphalt\, Autos\, Menschen\, viele Geräusche. Erstaunlich\, was manche Hunde schon nach kurzem hinbekommen. GROßARTIG 								\n				\n					\n		\n					\n		\n				\n						\n					\n			\n						\n				\n							\n					\n				\n						\n				\n					\n		\n					\n		\n				\n						\n					\n			\n						\n				\n					Und ein paar Bilder wurden auch geknipst ...
URL:https://www.hundesander.de/event/mantrail-121/
LOCATION:Verschiedene Orte\, Niedersachsen\, Deutschland
CATEGORIES:Mantrail,Training
ATTACH;FMTTYPE=image/jpeg:https://www.hundesander.de/wp-content/uploads/2022/07/daniel-sofinet-ZZLDGZjcx3s-unsplash.jpg
ORGANIZER;CN="hundesander":MAILTO:Christiane@hundesander.de
END:VEVENT
BEGIN:VEVENT
DTSTART;TZID=Europe/Berlin:20260321T150000
DTEND;TZID=Europe/Berlin:20260321T170000
DTSTAMP:20260422T133437
CREATED:20260328T084612Z
LAST-MODIFIED:20260328T084612Z
UID:10381-1774105200-1774112400@www.hundesander.de
SUMMARY:Mantrail
DESCRIPTION:Am 26. November in Wittingen				\n				\n				\n				\n									MONA – das ist der schwarze HUND – und Besitzerin Simone trailen heute das 5.Mal. Mona verfolgt ganz konsequent den Trail\, lässt sich nicht aus der Ruhe bringen – auch nicht durch einen entgegenkommenden Hund – und findet dann sehr zielstrebig den Runner. Wer genau „hin spürt“ merkt\, dass Mona trotz der Arbeit Kontakt zu Simone hält. Umgebung mittelschwer: Asphalt\, Autos\, Menschen\, viele Geräusche. Erstaunlich\, was manche Hunde schon nach kurzem hinbekommen. GROßARTIG 								\n				\n					\n		\n					\n		\n				\n						\n					\n			\n						\n				\n							\n					\n				\n						\n				\n					\n		\n					\n		\n				\n						\n					\n			\n						\n				\n					Und ein paar Bilder wurden auch geknipst ...
URL:https://www.hundesander.de/event/mantrail-135/
LOCATION:Verschiedene Orte\, Niedersachsen\, Deutschland
CATEGORIES:Mantrail,Training
ATTACH;FMTTYPE=image/jpeg:https://www.hundesander.de/wp-content/uploads/2022/07/daniel-sofinet-ZZLDGZjcx3s-unsplash.jpg
ORGANIZER;CN="hundesander":MAILTO:Christiane@hundesander.de
END:VEVENT
BEGIN:VEVENT
DTSTART;TZID=Europe/Berlin:20260326T150000
DTEND;TZID=Europe/Berlin:20260326T170000
DTSTAMP:20260422T133437
CREATED:20260328T084611Z
LAST-MODIFIED:20260328T084611Z
UID:10374-1774537200-1774544400@www.hundesander.de
SUMMARY:Mantrail
DESCRIPTION:Am 26. November in Wittingen				\n				\n				\n				\n									MONA – das ist der schwarze HUND – und Besitzerin Simone trailen heute das 5.Mal. Mona verfolgt ganz konsequent den Trail\, lässt sich nicht aus der Ruhe bringen – auch nicht durch einen entgegenkommenden Hund – und findet dann sehr zielstrebig den Runner. Wer genau „hin spürt“ merkt\, dass Mona trotz der Arbeit Kontakt zu Simone hält. Umgebung mittelschwer: Asphalt\, Autos\, Menschen\, viele Geräusche. Erstaunlich\, was manche Hunde schon nach kurzem hinbekommen. GROßARTIG 								\n				\n					\n		\n					\n		\n				\n						\n					\n			\n						\n				\n							\n					\n				\n						\n				\n					\n		\n					\n		\n				\n						\n					\n			\n						\n				\n					Und ein paar Bilder wurden auch geknipst ...
URL:https://www.hundesander.de/event/mantrail-129/
LOCATION:Verschiedene Orte\, Niedersachsen\, Deutschland
CATEGORIES:Mantrail,Training
ATTACH;FMTTYPE=image/jpeg:https://www.hundesander.de/wp-content/uploads/2022/07/daniel-sofinet-ZZLDGZjcx3s-unsplash.jpg
ORGANIZER;CN="hundesander":MAILTO:Christiane@hundesander.de
END:VEVENT
BEGIN:VEVENT
DTSTART;TZID=Europe/Berlin:20260327T150000
DTEND;TZID=Europe/Berlin:20260327T170000
DTSTAMP:20260422T133437
CREATED:20260328T084611Z
LAST-MODIFIED:20260328T084611Z
UID:10366-1774623600-1774630800@www.hundesander.de
SUMMARY:Mantrail
DESCRIPTION:Am 26. November in Wittingen				\n				\n				\n				\n									MONA – das ist der schwarze HUND – und Besitzerin Simone trailen heute das 5.Mal. Mona verfolgt ganz konsequent den Trail\, lässt sich nicht aus der Ruhe bringen – auch nicht durch einen entgegenkommenden Hund – und findet dann sehr zielstrebig den Runner. Wer genau „hin spürt“ merkt\, dass Mona trotz der Arbeit Kontakt zu Simone hält. Umgebung mittelschwer: Asphalt\, Autos\, Menschen\, viele Geräusche. Erstaunlich\, was manche Hunde schon nach kurzem hinbekommen. GROßARTIG 								\n				\n					\n		\n					\n		\n				\n						\n					\n			\n						\n				\n							\n					\n				\n						\n				\n					\n		\n					\n		\n				\n						\n					\n			\n						\n				\n					Und ein paar Bilder wurden auch geknipst ...
URL:https://www.hundesander.de/event/mantrail-122/
LOCATION:Verschiedene Orte\, Niedersachsen\, Deutschland
CATEGORIES:Mantrail,Training
ATTACH;FMTTYPE=image/jpeg:https://www.hundesander.de/wp-content/uploads/2022/07/daniel-sofinet-ZZLDGZjcx3s-unsplash.jpg
ORGANIZER;CN="hundesander":MAILTO:Christiane@hundesander.de
END:VEVENT
BEGIN:VEVENT
DTSTART;TZID=Europe/Berlin:20260328T150000
DTEND;TZID=Europe/Berlin:20260328T170000
DTSTAMP:20260422T133437
CREATED:20260328T084612Z
LAST-MODIFIED:20260328T084612Z
UID:10382-1774710000-1774717200@www.hundesander.de
SUMMARY:Mantrail
DESCRIPTION:Am 26. November in Wittingen				\n				\n				\n				\n									MONA – das ist der schwarze HUND – und Besitzerin Simone trailen heute das 5.Mal. Mona verfolgt ganz konsequent den Trail\, lässt sich nicht aus der Ruhe bringen – auch nicht durch einen entgegenkommenden Hund – und findet dann sehr zielstrebig den Runner. Wer genau „hin spürt“ merkt\, dass Mona trotz der Arbeit Kontakt zu Simone hält. Umgebung mittelschwer: Asphalt\, Autos\, Menschen\, viele Geräusche. Erstaunlich\, was manche Hunde schon nach kurzem hinbekommen. GROßARTIG 								\n				\n					\n		\n					\n		\n				\n						\n					\n			\n						\n				\n							\n					\n				\n						\n				\n					\n		\n					\n		\n				\n						\n					\n			\n						\n				\n					Und ein paar Bilder wurden auch geknipst ...
URL:https://www.hundesander.de/event/mantrail-136/
LOCATION:Verschiedene Orte\, Niedersachsen\, Deutschland
CATEGORIES:Mantrail,Training
ATTACH;FMTTYPE=image/jpeg:https://www.hundesander.de/wp-content/uploads/2022/07/daniel-sofinet-ZZLDGZjcx3s-unsplash.jpg
ORGANIZER;CN="hundesander":MAILTO:Christiane@hundesander.de
END:VEVENT
END:VCALENDAR