BEGIN:VCALENDAR
VERSION:2.0
PRODID:-//hundesander - ECPv6.15.20//NONSGML v1.0//EN
CALSCALE:GREGORIAN
METHOD:PUBLISH
X-WR-CALNAME:hundesander
X-ORIGINAL-URL:https://www.hundesander.de
X-WR-CALDESC:Veranstaltungen für hundesander
REFRESH-INTERVAL;VALUE=DURATION:PT1H
X-Robots-Tag:noindex
X-PUBLISHED-TTL:PT1H
BEGIN:VTIMEZONE
TZID:Europe/Berlin
BEGIN:DAYLIGHT
TZOFFSETFROM:+0100
TZOFFSETTO:+0200
TZNAME:CEST
DTSTART:20250330T010000
END:DAYLIGHT
BEGIN:STANDARD
TZOFFSETFROM:+0200
TZOFFSETTO:+0100
TZNAME:CET
DTSTART:20251026T010000
END:STANDARD
BEGIN:DAYLIGHT
TZOFFSETFROM:+0100
TZOFFSETTO:+0200
TZNAME:CEST
DTSTART:20260329T010000
END:DAYLIGHT
BEGIN:STANDARD
TZOFFSETFROM:+0200
TZOFFSETTO:+0100
TZNAME:CET
DTSTART:20261025T010000
END:STANDARD
BEGIN:DAYLIGHT
TZOFFSETFROM:+0100
TZOFFSETTO:+0200
TZNAME:CEST
DTSTART:20270328T010000
END:DAYLIGHT
BEGIN:STANDARD
TZOFFSETFROM:+0200
TZOFFSETTO:+0100
TZNAME:CET
DTSTART:20271031T010000
END:STANDARD
END:VTIMEZONE
BEGIN:VEVENT
DTSTART;TZID=Europe/Berlin:20260205T150000
DTEND;TZID=Europe/Berlin:20260205T170000
DTSTAMP:20260422T145854
CREATED:20260131T124340Z
LAST-MODIFIED:20260131T124340Z
UID:10131-1770303600-1770310800@www.hundesander.de
SUMMARY:Mantrail
DESCRIPTION:Am 26. November in Wittingen				\n				\n				\n				\n									MONA – das ist der schwarze HUND – und Besitzerin Simone trailen heute das 5.Mal. Mona verfolgt ganz konsequent den Trail\, lässt sich nicht aus der Ruhe bringen – auch nicht durch einen entgegenkommenden Hund – und findet dann sehr zielstrebig den Runner. Wer genau „hin spürt“ merkt\, dass Mona trotz der Arbeit Kontakt zu Simone hält. Umgebung mittelschwer: Asphalt\, Autos\, Menschen\, viele Geräusche. Erstaunlich\, was manche Hunde schon nach kurzem hinbekommen. GROßARTIG 								\n				\n					\n		\n					\n		\n				\n						\n					\n			\n						\n				\n							\n					\n				\n						\n				\n					\n		\n					\n		\n				\n						\n					\n			\n						\n				\n					Und ein paar Bilder wurden auch geknipst ...
URL:https://www.hundesander.de/event/mantrail-117/
LOCATION:Verschiedene Orte\, Niedersachsen\, Deutschland
CATEGORIES:Mantrail,Training
ATTACH;FMTTYPE=image/jpeg:https://www.hundesander.de/wp-content/uploads/2022/07/daniel-sofinet-ZZLDGZjcx3s-unsplash.jpg
ORGANIZER;CN="hundesander":MAILTO:Christiane@hundesander.de
END:VEVENT
BEGIN:VEVENT
DTSTART;TZID=Europe/Berlin:20260206T150000
DTEND;TZID=Europe/Berlin:20260206T170000
DTSTAMP:20260422T145854
CREATED:20260131T124340Z
LAST-MODIFIED:20260131T124340Z
UID:10147-1770390000-1770397200@www.hundesander.de
SUMMARY:Mantrail
DESCRIPTION:Am 26. November in Wittingen				\n				\n				\n				\n									MONA – das ist der schwarze HUND – und Besitzerin Simone trailen heute das 5.Mal. Mona verfolgt ganz konsequent den Trail\, lässt sich nicht aus der Ruhe bringen – auch nicht durch einen entgegenkommenden Hund – und findet dann sehr zielstrebig den Runner. Wer genau „hin spürt“ merkt\, dass Mona trotz der Arbeit Kontakt zu Simone hält. Umgebung mittelschwer: Asphalt\, Autos\, Menschen\, viele Geräusche. Erstaunlich\, was manche Hunde schon nach kurzem hinbekommen. GROßARTIG 								\n				\n					\n		\n					\n		\n				\n						\n					\n			\n						\n				\n							\n					\n				\n						\n				\n					\n		\n					\n		\n				\n						\n					\n			\n						\n				\n					Und ein paar Bilder wurden auch geknipst ...
URL:https://www.hundesander.de/event/mantrail-116/
LOCATION:Verschiedene Orte\, Niedersachsen\, Deutschland
CATEGORIES:Mantrail,Training
ATTACH;FMTTYPE=image/jpeg:https://www.hundesander.de/wp-content/uploads/2022/07/daniel-sofinet-ZZLDGZjcx3s-unsplash.jpg
ORGANIZER;CN="hundesander":MAILTO:Christiane@hundesander.de
END:VEVENT
BEGIN:VEVENT
DTSTART;TZID=Europe/Berlin:20260207T150000
DTEND;TZID=Europe/Berlin:20260207T170000
DTSTAMP:20260422T145854
CREATED:20260131T124339Z
LAST-MODIFIED:20260131T124339Z
UID:10139-1770476400-1770483600@www.hundesander.de
SUMMARY:Mantrail
DESCRIPTION:Am 26. November in Wittingen				\n				\n				\n				\n									MONA – das ist der schwarze HUND – und Besitzerin Simone trailen heute das 5.Mal. Mona verfolgt ganz konsequent den Trail\, lässt sich nicht aus der Ruhe bringen – auch nicht durch einen entgegenkommenden Hund – und findet dann sehr zielstrebig den Runner. Wer genau „hin spürt“ merkt\, dass Mona trotz der Arbeit Kontakt zu Simone hält. Umgebung mittelschwer: Asphalt\, Autos\, Menschen\, viele Geräusche. Erstaunlich\, was manche Hunde schon nach kurzem hinbekommen. GROßARTIG 								\n				\n					\n		\n					\n		\n				\n						\n					\n			\n						\n				\n							\n					\n				\n						\n				\n					\n		\n					\n		\n				\n						\n					\n			\n						\n				\n					Und ein paar Bilder wurden auch geknipst ...
URL:https://www.hundesander.de/event/mantrail-115/
LOCATION:Verschiedene Orte\, Niedersachsen\, Deutschland
CATEGORIES:Mantrail,Training
ATTACH;FMTTYPE=image/jpeg:https://www.hundesander.de/wp-content/uploads/2022/07/daniel-sofinet-ZZLDGZjcx3s-unsplash.jpg
ORGANIZER;CN="hundesander":MAILTO:Christiane@hundesander.de
END:VEVENT
BEGIN:VEVENT
DTSTART;TZID=Europe/Berlin:20260212T150000
DTEND;TZID=Europe/Berlin:20260212T170000
DTSTAMP:20260422T145854
CREATED:20260131T124339Z
LAST-MODIFIED:20260131T124339Z
UID:10132-1770908400-1770915600@www.hundesander.de
SUMMARY:Mantrail
DESCRIPTION:Am 26. November in Wittingen				\n				\n				\n				\n									MONA – das ist der schwarze HUND – und Besitzerin Simone trailen heute das 5.Mal. Mona verfolgt ganz konsequent den Trail\, lässt sich nicht aus der Ruhe bringen – auch nicht durch einen entgegenkommenden Hund – und findet dann sehr zielstrebig den Runner. Wer genau „hin spürt“ merkt\, dass Mona trotz der Arbeit Kontakt zu Simone hält. Umgebung mittelschwer: Asphalt\, Autos\, Menschen\, viele Geräusche. Erstaunlich\, was manche Hunde schon nach kurzem hinbekommen. GROßARTIG 								\n				\n					\n		\n					\n		\n				\n						\n					\n			\n						\n				\n							\n					\n				\n						\n				\n					\n		\n					\n		\n				\n						\n					\n			\n						\n				\n					Und ein paar Bilder wurden auch geknipst ...
URL:https://www.hundesander.de/event/mantrail-114/
LOCATION:Verschiedene Orte\, Niedersachsen\, Deutschland
CATEGORIES:Mantrail,Training
ATTACH;FMTTYPE=image/jpeg:https://www.hundesander.de/wp-content/uploads/2022/07/daniel-sofinet-ZZLDGZjcx3s-unsplash.jpg
ORGANIZER;CN="hundesander":MAILTO:Christiane@hundesander.de
END:VEVENT
BEGIN:VEVENT
DTSTART;TZID=Europe/Berlin:20260213T150000
DTEND;TZID=Europe/Berlin:20260213T170000
DTSTAMP:20260422T145854
CREATED:20260131T124339Z
LAST-MODIFIED:20260131T124339Z
UID:10148-1770994800-1771002000@www.hundesander.de
SUMMARY:Mantrail
DESCRIPTION:Am 26. November in Wittingen				\n				\n				\n				\n									MONA – das ist der schwarze HUND – und Besitzerin Simone trailen heute das 5.Mal. Mona verfolgt ganz konsequent den Trail\, lässt sich nicht aus der Ruhe bringen – auch nicht durch einen entgegenkommenden Hund – und findet dann sehr zielstrebig den Runner. Wer genau „hin spürt“ merkt\, dass Mona trotz der Arbeit Kontakt zu Simone hält. Umgebung mittelschwer: Asphalt\, Autos\, Menschen\, viele Geräusche. Erstaunlich\, was manche Hunde schon nach kurzem hinbekommen. GROßARTIG 								\n				\n					\n		\n					\n		\n				\n						\n					\n			\n						\n				\n							\n					\n				\n						\n				\n					\n		\n					\n		\n				\n						\n					\n			\n						\n				\n					Und ein paar Bilder wurden auch geknipst ...
URL:https://www.hundesander.de/event/mantrail-113/
LOCATION:Verschiedene Orte\, Niedersachsen\, Deutschland
CATEGORIES:Mantrail,Training
ATTACH;FMTTYPE=image/jpeg:https://www.hundesander.de/wp-content/uploads/2022/07/daniel-sofinet-ZZLDGZjcx3s-unsplash.jpg
ORGANIZER;CN="hundesander":MAILTO:Christiane@hundesander.de
END:VEVENT
BEGIN:VEVENT
DTSTART;TZID=Europe/Berlin:20260214T150000
DTEND;TZID=Europe/Berlin:20260214T170000
DTSTAMP:20260422T145854
CREATED:20260131T124339Z
LAST-MODIFIED:20260131T124339Z
UID:10140-1771081200-1771088400@www.hundesander.de
SUMMARY:Mantrail
DESCRIPTION:Am 26. November in Wittingen				\n				\n				\n				\n									MONA – das ist der schwarze HUND – und Besitzerin Simone trailen heute das 5.Mal. Mona verfolgt ganz konsequent den Trail\, lässt sich nicht aus der Ruhe bringen – auch nicht durch einen entgegenkommenden Hund – und findet dann sehr zielstrebig den Runner. Wer genau „hin spürt“ merkt\, dass Mona trotz der Arbeit Kontakt zu Simone hält. Umgebung mittelschwer: Asphalt\, Autos\, Menschen\, viele Geräusche. Erstaunlich\, was manche Hunde schon nach kurzem hinbekommen. GROßARTIG 								\n				\n					\n		\n					\n		\n				\n						\n					\n			\n						\n				\n							\n					\n				\n						\n				\n					\n		\n					\n		\n				\n						\n					\n			\n						\n				\n					Und ein paar Bilder wurden auch geknipst ...
URL:https://www.hundesander.de/event/mantrail-112/
LOCATION:Verschiedene Orte\, Niedersachsen\, Deutschland
CATEGORIES:Mantrail,Training
ATTACH;FMTTYPE=image/jpeg:https://www.hundesander.de/wp-content/uploads/2022/07/daniel-sofinet-ZZLDGZjcx3s-unsplash.jpg
ORGANIZER;CN="hundesander":MAILTO:Christiane@hundesander.de
END:VEVENT
BEGIN:VEVENT
DTSTART;TZID=Europe/Berlin:20260219T150000
DTEND;TZID=Europe/Berlin:20260219T170000
DTSTAMP:20260422T145854
CREATED:20260131T124326Z
LAST-MODIFIED:20260131T124326Z
UID:10133-1771513200-1771520400@www.hundesander.de
SUMMARY:Mantrail
DESCRIPTION:Am 26. November in Wittingen				\n				\n				\n				\n									MONA – das ist der schwarze HUND – und Besitzerin Simone trailen heute das 5.Mal. Mona verfolgt ganz konsequent den Trail\, lässt sich nicht aus der Ruhe bringen – auch nicht durch einen entgegenkommenden Hund – und findet dann sehr zielstrebig den Runner. Wer genau „hin spürt“ merkt\, dass Mona trotz der Arbeit Kontakt zu Simone hält. Umgebung mittelschwer: Asphalt\, Autos\, Menschen\, viele Geräusche. Erstaunlich\, was manche Hunde schon nach kurzem hinbekommen. GROßARTIG 								\n				\n					\n		\n					\n		\n				\n						\n					\n			\n						\n				\n							\n					\n				\n						\n				\n					\n		\n					\n		\n				\n						\n					\n			\n						\n				\n					Und ein paar Bilder wurden auch geknipst ...
URL:https://www.hundesander.de/event/mantrail-111/
LOCATION:Verschiedene Orte\, Niedersachsen\, Deutschland
CATEGORIES:Mantrail,Training
ATTACH;FMTTYPE=image/jpeg:https://www.hundesander.de/wp-content/uploads/2022/07/daniel-sofinet-ZZLDGZjcx3s-unsplash.jpg
ORGANIZER;CN="hundesander":MAILTO:Christiane@hundesander.de
END:VEVENT
BEGIN:VEVENT
DTSTART;TZID=Europe/Berlin:20260220T150000
DTEND;TZID=Europe/Berlin:20260220T170000
DTSTAMP:20260422T145854
CREATED:20260131T124326Z
LAST-MODIFIED:20260131T124326Z
UID:10149-1771599600-1771606800@www.hundesander.de
SUMMARY:Mantrail
DESCRIPTION:Am 26. November in Wittingen				\n				\n				\n				\n									MONA – das ist der schwarze HUND – und Besitzerin Simone trailen heute das 5.Mal. Mona verfolgt ganz konsequent den Trail\, lässt sich nicht aus der Ruhe bringen – auch nicht durch einen entgegenkommenden Hund – und findet dann sehr zielstrebig den Runner. Wer genau „hin spürt“ merkt\, dass Mona trotz der Arbeit Kontakt zu Simone hält. Umgebung mittelschwer: Asphalt\, Autos\, Menschen\, viele Geräusche. Erstaunlich\, was manche Hunde schon nach kurzem hinbekommen. GROßARTIG 								\n				\n					\n		\n					\n		\n				\n						\n					\n			\n						\n				\n							\n					\n				\n						\n				\n					\n		\n					\n		\n				\n						\n					\n			\n						\n				\n					Und ein paar Bilder wurden auch geknipst ...
URL:https://www.hundesander.de/event/mantrail-110/
LOCATION:Verschiedene Orte\, Niedersachsen\, Deutschland
CATEGORIES:Mantrail,Training
ATTACH;FMTTYPE=image/jpeg:https://www.hundesander.de/wp-content/uploads/2022/07/daniel-sofinet-ZZLDGZjcx3s-unsplash.jpg
ORGANIZER;CN="hundesander":MAILTO:Christiane@hundesander.de
END:VEVENT
BEGIN:VEVENT
DTSTART;TZID=Europe/Berlin:20260221T150000
DTEND;TZID=Europe/Berlin:20260221T170000
DTSTAMP:20260422T145854
CREATED:20260131T124325Z
LAST-MODIFIED:20260131T124325Z
UID:10141-1771686000-1771693200@www.hundesander.de
SUMMARY:Mantrail
DESCRIPTION:Am 26. November in Wittingen				\n				\n				\n				\n									MONA – das ist der schwarze HUND – und Besitzerin Simone trailen heute das 5.Mal. Mona verfolgt ganz konsequent den Trail\, lässt sich nicht aus der Ruhe bringen – auch nicht durch einen entgegenkommenden Hund – und findet dann sehr zielstrebig den Runner. Wer genau „hin spürt“ merkt\, dass Mona trotz der Arbeit Kontakt zu Simone hält. Umgebung mittelschwer: Asphalt\, Autos\, Menschen\, viele Geräusche. Erstaunlich\, was manche Hunde schon nach kurzem hinbekommen. GROßARTIG 								\n				\n					\n		\n					\n		\n				\n						\n					\n			\n						\n				\n							\n					\n				\n						\n				\n					\n		\n					\n		\n				\n						\n					\n			\n						\n				\n					Und ein paar Bilder wurden auch geknipst ...
URL:https://www.hundesander.de/event/mantrail-109/
LOCATION:Verschiedene Orte\, Niedersachsen\, Deutschland
CATEGORIES:Mantrail,Training
ATTACH;FMTTYPE=image/jpeg:https://www.hundesander.de/wp-content/uploads/2022/07/daniel-sofinet-ZZLDGZjcx3s-unsplash.jpg
ORGANIZER;CN="hundesander":MAILTO:Christiane@hundesander.de
END:VEVENT
BEGIN:VEVENT
DTSTART;TZID=Europe/Berlin:20260226T150000
DTEND;TZID=Europe/Berlin:20260226T170000
DTSTAMP:20260422T145854
CREATED:20260131T124325Z
LAST-MODIFIED:20260131T124325Z
UID:10134-1772118000-1772125200@www.hundesander.de
SUMMARY:Mantrail
DESCRIPTION:Am 26. November in Wittingen				\n				\n				\n				\n									MONA – das ist der schwarze HUND – und Besitzerin Simone trailen heute das 5.Mal. Mona verfolgt ganz konsequent den Trail\, lässt sich nicht aus der Ruhe bringen – auch nicht durch einen entgegenkommenden Hund – und findet dann sehr zielstrebig den Runner. Wer genau „hin spürt“ merkt\, dass Mona trotz der Arbeit Kontakt zu Simone hält. Umgebung mittelschwer: Asphalt\, Autos\, Menschen\, viele Geräusche. Erstaunlich\, was manche Hunde schon nach kurzem hinbekommen. GROßARTIG 								\n				\n					\n		\n					\n		\n				\n						\n					\n			\n						\n				\n							\n					\n				\n						\n				\n					\n		\n					\n		\n				\n						\n					\n			\n						\n				\n					Und ein paar Bilder wurden auch geknipst ...
URL:https://www.hundesander.de/event/mantrail-108/
LOCATION:Verschiedene Orte\, Niedersachsen\, Deutschland
CATEGORIES:Mantrail,Training
ATTACH;FMTTYPE=image/jpeg:https://www.hundesander.de/wp-content/uploads/2022/07/daniel-sofinet-ZZLDGZjcx3s-unsplash.jpg
ORGANIZER;CN="hundesander":MAILTO:Christiane@hundesander.de
END:VEVENT
BEGIN:VEVENT
DTSTART;TZID=Europe/Berlin:20260227T150000
DTEND;TZID=Europe/Berlin:20260227T170000
DTSTAMP:20260422T145854
CREATED:20260131T124325Z
LAST-MODIFIED:20260131T124325Z
UID:10150-1772204400-1772211600@www.hundesander.de
SUMMARY:Mantrail
DESCRIPTION:Am 26. November in Wittingen				\n				\n				\n				\n									MONA – das ist der schwarze HUND – und Besitzerin Simone trailen heute das 5.Mal. Mona verfolgt ganz konsequent den Trail\, lässt sich nicht aus der Ruhe bringen – auch nicht durch einen entgegenkommenden Hund – und findet dann sehr zielstrebig den Runner. Wer genau „hin spürt“ merkt\, dass Mona trotz der Arbeit Kontakt zu Simone hält. Umgebung mittelschwer: Asphalt\, Autos\, Menschen\, viele Geräusche. Erstaunlich\, was manche Hunde schon nach kurzem hinbekommen. GROßARTIG 								\n				\n					\n		\n					\n		\n				\n						\n					\n			\n						\n				\n							\n					\n				\n						\n				\n					\n		\n					\n		\n				\n						\n					\n			\n						\n				\n					Und ein paar Bilder wurden auch geknipst ...
URL:https://www.hundesander.de/event/mantrail-107/
LOCATION:Verschiedene Orte\, Niedersachsen\, Deutschland
CATEGORIES:Mantrail,Training
ATTACH;FMTTYPE=image/jpeg:https://www.hundesander.de/wp-content/uploads/2022/07/daniel-sofinet-ZZLDGZjcx3s-unsplash.jpg
ORGANIZER;CN="hundesander":MAILTO:Christiane@hundesander.de
END:VEVENT
BEGIN:VEVENT
DTSTART;TZID=Europe/Berlin:20260228T150000
DTEND;TZID=Europe/Berlin:20260228T170000
DTSTAMP:20260422T145854
CREATED:20260131T124325Z
LAST-MODIFIED:20260131T124325Z
UID:10142-1772290800-1772298000@www.hundesander.de
SUMMARY:Mantrail
DESCRIPTION:Am 26. November in Wittingen				\n				\n				\n				\n									MONA – das ist der schwarze HUND – und Besitzerin Simone trailen heute das 5.Mal. Mona verfolgt ganz konsequent den Trail\, lässt sich nicht aus der Ruhe bringen – auch nicht durch einen entgegenkommenden Hund – und findet dann sehr zielstrebig den Runner. Wer genau „hin spürt“ merkt\, dass Mona trotz der Arbeit Kontakt zu Simone hält. Umgebung mittelschwer: Asphalt\, Autos\, Menschen\, viele Geräusche. Erstaunlich\, was manche Hunde schon nach kurzem hinbekommen. GROßARTIG 								\n				\n					\n		\n					\n		\n				\n						\n					\n			\n						\n				\n							\n					\n				\n						\n				\n					\n		\n					\n		\n				\n						\n					\n			\n						\n				\n					Und ein paar Bilder wurden auch geknipst ...
URL:https://www.hundesander.de/event/mantrail-106/
LOCATION:Verschiedene Orte\, Niedersachsen\, Deutschland
CATEGORIES:Mantrail,Training
ATTACH;FMTTYPE=image/jpeg:https://www.hundesander.de/wp-content/uploads/2022/07/daniel-sofinet-ZZLDGZjcx3s-unsplash.jpg
ORGANIZER;CN="hundesander":MAILTO:Christiane@hundesander.de
END:VEVENT
END:VCALENDAR